BEGIN:VCALENDAR
VERSION:2.0
PRODID:-//Androscoggin Land Trust - ECPv6.15.20//NONSGML v1.0//EN
CALSCALE:GREGORIAN
METHOD:PUBLISH
X-ORIGINAL-URL:https://androscogginlandtrust.org
X-WR-CALDESC:Events for Androscoggin Land Trust
REFRESH-INTERVAL;VALUE=DURATION:PT1H
X-Robots-Tag:noindex
X-PUBLISHED-TTL:PT1H
BEGIN:VTIMEZONE
TZID:America/New_York
BEGIN:DAYLIGHT
TZOFFSETFROM:-0500
TZOFFSETTO:-0400
TZNAME:EDT
DTSTART:20180311T070000
END:DAYLIGHT
BEGIN:STANDARD
TZOFFSETFROM:-0400
TZOFFSETTO:-0500
TZNAME:EST
DTSTART:20181104T060000
END:STANDARD
BEGIN:DAYLIGHT
TZOFFSETFROM:-0500
TZOFFSETTO:-0400
TZNAME:EDT
DTSTART:20190310T070000
END:DAYLIGHT
BEGIN:STANDARD
TZOFFSETFROM:-0400
TZOFFSETTO:-0500
TZNAME:EST
DTSTART:20191103T060000
END:STANDARD
BEGIN:DAYLIGHT
TZOFFSETFROM:-0500
TZOFFSETTO:-0400
TZNAME:EDT
DTSTART:20200308T070000
END:DAYLIGHT
BEGIN:STANDARD
TZOFFSETFROM:-0400
TZOFFSETTO:-0500
TZNAME:EST
DTSTART:20201101T060000
END:STANDARD
END:VTIMEZONE
BEGIN:VEVENT
DTSTART;TZID=America/New_York:20190219T183000
DTEND;TZID=America/New_York:20190219T200000
DTSTAMP:20260424T185932
CREATED:20190128T202410Z
LAST-MODIFIED:20190128T202410Z
UID:10000097-1550601000-1550606400@androscogginlandtrust.org
SUMMARY:Full Moon Snowshoe Hike at French Falls
DESCRIPTION:Join us on the full moon for an evening snow shoe hike! This riverside trail will give a great opportunity to see the moonlight on the river and beaming through the trees. There will be a fire near the trail entrance to enjoy. There is a parking lot along the ball field at the end of French Falls Lane and we will meet there at the trail entrance. This event is hosted by ALT and the Jay Recreation Committee. \nWhat to bring: snowshoes\, headlamp/flashlight\, poles (optional)\, water and a snack\, warm clothing (layers suggested). There will be some snow shoes available for people to borrow\, if possible please contact us in advance to reserve a pair. \nHope to see you there! \nFrench Falls Recreation Area is owned and conserved by the Androscoggin Land Trust and leased to the Town of Jay. You can learn more about French Falls here: https://androscogginlandtrust.org/land-projects/french-falls-recreation-area/
URL:https://androscogginlandtrust.org/event/full-moon-snowshoe-hike-at-french-falls/
LOCATION:French Falls Recreation Area\, French Falls Lane\, Jay\, ME\, 04239\, United States
ATTACH;FMTTYPE=image/jpeg:https://androscogginlandtrust.org/wp-content/uploads/2019/01/french-falls-moon.jpg
ORGANIZER;CN="Shelley Kruszewski":MAILTO:shelley@androscogginlandtrust.org
GEO:44.4944392;-70.2045969
X-APPLE-STRUCTURED-LOCATION;VALUE=URI;X-ADDRESS=French Falls Recreation Area French Falls Lane Jay ME 04239 United States;X-APPLE-RADIUS=500;X-TITLE=French Falls Lane:geo:-70.2045969,44.4944392
END:VEVENT
END:VCALENDAR