BEGIN:VCALENDAR
VERSION:2.0
PRODID:-//Androscoggin Land Trust - ECPv6.15.20//NONSGML v1.0//EN
CALSCALE:GREGORIAN
METHOD:PUBLISH
X-WR-CALNAME:Androscoggin Land Trust
X-ORIGINAL-URL:https://androscogginlandtrust.org
X-WR-CALDESC:Events for Androscoggin Land Trust
REFRESH-INTERVAL;VALUE=DURATION:PT1H
X-Robots-Tag:noindex
X-PUBLISHED-TTL:PT1H
BEGIN:VTIMEZONE
TZID:America/New_York
BEGIN:DAYLIGHT
TZOFFSETFROM:-0500
TZOFFSETTO:-0400
TZNAME:EDT
DTSTART:20200308T070000
END:DAYLIGHT
BEGIN:STANDARD
TZOFFSETFROM:-0400
TZOFFSETTO:-0500
TZNAME:EST
DTSTART:20201101T060000
END:STANDARD
BEGIN:DAYLIGHT
TZOFFSETFROM:-0500
TZOFFSETTO:-0400
TZNAME:EDT
DTSTART:20210314T070000
END:DAYLIGHT
BEGIN:STANDARD
TZOFFSETFROM:-0400
TZOFFSETTO:-0500
TZNAME:EST
DTSTART:20211107T060000
END:STANDARD
BEGIN:DAYLIGHT
TZOFFSETFROM:-0500
TZOFFSETTO:-0400
TZNAME:EDT
DTSTART:20220313T070000
END:DAYLIGHT
BEGIN:STANDARD
TZOFFSETFROM:-0400
TZOFFSETTO:-0500
TZNAME:EST
DTSTART:20221106T060000
END:STANDARD
END:VTIMEZONE
BEGIN:VEVENT
DTSTART;TZID=America/New_York:20210723T170000
DTEND;TZID=America/New_York:20210723T190000
DTSTAMP:20260423T012651
CREATED:20210617T190037Z
LAST-MODIFIED:20210617T190037Z
UID:10000115-1627059600-1627066800@androscogginlandtrust.org
SUMMARY:Paddle After Hours
DESCRIPTION:Meet us at 5:00 pm at Festival Plaza and we will depart by 5:30 PM.  You can experience the downtown in about one hour plus\, so we’d be back at Festival Plaza by 6:45/7:00 pm or so. \nCome experience the beauty and history of the L/A region!
URL:https://androscogginlandtrust.org/event/paddle-after-hours/
LOCATION:Festival Plaza and Boat Launch\, 112 Main Street\, Auburn\, ME\, 04210\, United States
ORGANIZER;CN="Androscoggin Land Trust":MAILTO:info@androscogginlandtrust.org
GEO:44.096519;-70.2249933
X-APPLE-STRUCTURED-LOCATION;VALUE=URI;X-ADDRESS=Festival Plaza and Boat Launch 112 Main Street Auburn ME 04210 United States;X-APPLE-RADIUS=500;X-TITLE=112 Main Street:geo:-70.2249933,44.096519
END:VEVENT
END:VCALENDAR