BEGIN:VCALENDAR
VERSION:2.0
PRODID:-//Androscoggin Land Trust - ECPv6.15.20//NONSGML v1.0//EN
CALSCALE:GREGORIAN
METHOD:PUBLISH
X-WR-CALNAME:Androscoggin Land Trust
X-ORIGINAL-URL:https://androscogginlandtrust.org
X-WR-CALDESC:Events for Androscoggin Land Trust
REFRESH-INTERVAL;VALUE=DURATION:PT1H
X-Robots-Tag:noindex
X-PUBLISHED-TTL:PT1H
BEGIN:VTIMEZONE
TZID:America/New_York
BEGIN:DAYLIGHT
TZOFFSETFROM:-0500
TZOFFSETTO:-0400
TZNAME:EDT
DTSTART:20230312T070000
END:DAYLIGHT
BEGIN:STANDARD
TZOFFSETFROM:-0400
TZOFFSETTO:-0500
TZNAME:EST
DTSTART:20231105T060000
END:STANDARD
BEGIN:DAYLIGHT
TZOFFSETFROM:-0500
TZOFFSETTO:-0400
TZNAME:EDT
DTSTART:20240310T070000
END:DAYLIGHT
BEGIN:STANDARD
TZOFFSETFROM:-0400
TZOFFSETTO:-0500
TZNAME:EST
DTSTART:20241103T060000
END:STANDARD
BEGIN:DAYLIGHT
TZOFFSETFROM:-0500
TZOFFSETTO:-0400
TZNAME:EDT
DTSTART:20250309T070000
END:DAYLIGHT
BEGIN:STANDARD
TZOFFSETFROM:-0400
TZOFFSETTO:-0500
TZNAME:EST
DTSTART:20251102T060000
END:STANDARD
END:VTIMEZONE
BEGIN:VEVENT
DTSTART;TZID=America/New_York:20240408T143000
DTEND;TZID=America/New_York:20240408T163000
DTSTAMP:20260421T165139
CREATED:20240324T135556Z
LAST-MODIFIED:20240324T135558Z
UID:10000143-1712586600-1712593800@androscogginlandtrust.org
SUMMARY:Great American Eclipse Party!
DESCRIPTION:
URL:https://androscogginlandtrust.org/event/great-american-eclipse-party/
LOCATION:French Falls Recreation Area\, French Falls Lane\, Jay\, ME\, 04239\, United States
ATTACH;FMTTYPE=image/jpeg:https://androscogginlandtrust.org/wp-content/uploads/2024/03/eclipse.jpg
ORGANIZER;CN="Androscoggin Land Trust":MAILTO:info@androscogginlandtrust.org
GEO:44.4944392;-70.2045969
X-APPLE-STRUCTURED-LOCATION;VALUE=URI;X-ADDRESS=French Falls Recreation Area French Falls Lane Jay ME 04239 United States;X-APPLE-RADIUS=500;X-TITLE=French Falls Lane:geo:-70.2045969,44.4944392
END:VEVENT
END:VCALENDAR