BEGIN:VCALENDAR
VERSION:2.0
PRODID:-//Androscoggin Land Trust - ECPv6.15.20//NONSGML v1.0//EN
CALSCALE:GREGORIAN
METHOD:PUBLISH
X-WR-CALNAME:Androscoggin Land Trust
X-ORIGINAL-URL:https://androscogginlandtrust.org
X-WR-CALDESC:Events for Androscoggin Land Trust
REFRESH-INTERVAL;VALUE=DURATION:PT1H
X-Robots-Tag:noindex
X-PUBLISHED-TTL:PT1H
BEGIN:VTIMEZONE
TZID:America/New_York
BEGIN:DAYLIGHT
TZOFFSETFROM:-0500
TZOFFSETTO:-0400
TZNAME:EDT
DTSTART:20210314T070000
END:DAYLIGHT
BEGIN:STANDARD
TZOFFSETFROM:-0400
TZOFFSETTO:-0500
TZNAME:EST
DTSTART:20211107T060000
END:STANDARD
BEGIN:DAYLIGHT
TZOFFSETFROM:-0500
TZOFFSETTO:-0400
TZNAME:EDT
DTSTART:20220313T070000
END:DAYLIGHT
BEGIN:STANDARD
TZOFFSETFROM:-0400
TZOFFSETTO:-0500
TZNAME:EST
DTSTART:20221106T060000
END:STANDARD
BEGIN:DAYLIGHT
TZOFFSETFROM:-0500
TZOFFSETTO:-0400
TZNAME:EDT
DTSTART:20230312T070000
END:DAYLIGHT
BEGIN:STANDARD
TZOFFSETFROM:-0400
TZOFFSETTO:-0500
TZNAME:EST
DTSTART:20231105T060000
END:STANDARD
END:VTIMEZONE
BEGIN:VEVENT
DTSTART;TZID=America/New_York:20220416T080000
DTEND;TZID=America/New_York:20220416T100000
DTSTAMP:20260421T004751
CREATED:20220408T135539Z
LAST-MODIFIED:20220408T135539Z
UID:10000122-1650096000-1650103200@androscogginlandtrust.org
SUMMARY:David Rancourt Trash pick-up w/City of Lewiston
DESCRIPTION:
URL:https://androscogginlandtrust.org/event/david-rancourt-trash-pick-up-w-city-of-lewiston/
LOCATION:David Rancourt River Preserve\, Tall Pines Drive\, Lewiston \, 04240\, United States
ORGANIZER;CN="Androscoggin Land Trust":MAILTO:info@androscogginlandtrust.org
GEO:44.1244441;-70.2066136
X-APPLE-STRUCTURED-LOCATION;VALUE=URI;X-ADDRESS=David Rancourt River Preserve Tall Pines Drive Lewiston  04240 United States;X-APPLE-RADIUS=500;X-TITLE=Tall Pines Drive:geo:-70.2066136,44.1244441
END:VEVENT
BEGIN:VEVENT
DTSTART;TZID=America/New_York:20220422T183000
DTEND;TZID=America/New_York:20220422T200000
DTSTAMP:20260421T004751
CREATED:20220408T140710Z
LAST-MODIFIED:20220408T155734Z
UID:10000123-1650652200-1650657600@androscogginlandtrust.org
SUMMARY:Earth Day! Signs of Spring and Woodcock Walk w/Stanton Bird Club
DESCRIPTION:Signs of Spring Walk at the Marden-Chittick Refuge\, Greene \nApril 22\, 2022 – 6:30 PM  (rain date April 23 at 6:30 PM) \nCelebrate Earth Day with the Androscoggin Land Trust and the Stanton Bird Club\, with an evening nature walk to find signs of spring!  We will gather at the lower field of the Marden-Chittick Refuge in Greene (see directions below) at 6:30 PM. Dana Little and Judy Marden will lead a walk around the field and nearby woods\, looking for signs of spring: vernal pools by the field edge\, emerging spring wildflowers and plants\, calling owls\, and\, when it begins to get dark\, woodcocks displaying spring mating behavior. \nThe ground will be wet\, and ticks will be out\, so we recommend tall waterproof boots or gaiters\, and tick repellent. Bring a flashlight and/or headlight. \nDirections: The field is on Copper Ridge Road\, off the dirt section of North Mountain Road in Greene.  The nearest house address is 19 Copper Ridge Road\, Greene ME 04236\, and there is plenty of parking along the side of the field beyond that house.  Dan Marquis has volunteered to meet participants at Gowell’s Grocery Store on Route 202 in Greene and lead them in\, if you prefer an in-person guide. He’ll be in the parking lot at 6:15\, driving a Marquis Signs vehicle. \nThe theme for Earth Day is the fashion industry.  Seemed strange to us too!  Please consider donating or upcycling any clothing you might have to organizations in our community that accept and upcycle clothing.  Ponder the effects that the fashion industry has had over the years in our local region and the entire world.
URL:https://androscogginlandtrust.org/event/earth-day-signs-of-spring-and-woodcock-walk-w-stanton-bird-club/
LOCATION:Marden-Chittick Refuge\, 196 North Mountain Road\, Greene\, ME\, 04236\, United States
ORGANIZER;CN="Androscoggin Land Trust":MAILTO:info@androscogginlandtrust.org
GEO:44.2279931;-70.177565
X-APPLE-STRUCTURED-LOCATION;VALUE=URI;X-ADDRESS=Marden-Chittick Refuge 196 North Mountain Road Greene ME 04236 United States;X-APPLE-RADIUS=500;X-TITLE=196 North Mountain Road:geo:-70.177565,44.2279931
END:VEVENT
BEGIN:VEVENT
DTSTART;TZID=America/New_York:20220430T090000
DTEND;TZID=America/New_York:20220430T103000
DTSTAMP:20260421T004751
CREATED:20220408T141025Z
LAST-MODIFIED:20220408T141025Z
UID:10000062-1651309200-1651314600@androscogginlandtrust.org
SUMMARY:Vernal pools w/LAWPC
DESCRIPTION:Join as at (TBD) as we explore vernal pools!  Led by Paula Curtis-Everitt \n9:00am-10:30am
URL:https://androscogginlandtrust.org/event/vernal-pools-w-lawpc/
LOCATION:ME\, United States
ORGANIZER;CN="Androscoggin Land Trust":MAILTO:info@androscogginlandtrust.org
END:VEVENT
BEGIN:VEVENT
DTSTART;TZID=America/New_York:20220518T160000
DTEND;TZID=America/New_York:20220518T210000
DTSTAMP:20260421T004751
CREATED:20220408T144716Z
LAST-MODIFIED:20220515T152310Z
UID:10000063-1652889600-1652907600@androscogginlandtrust.org
SUMMARY:Save Camp Gustin Fundraiser @Lost Valley
DESCRIPTION:Camp Gustin Fundraiser @Lost Valley Ski Resort \nPlease support Androscoggin Land Trust in our campaign to Save Camp Gustin in Sabbattus\, ME.  Join us for a night of fun and prizes so we can help conserve a special place for the environment and our youth!
URL:https://androscogginlandtrust.org/event/save-camp-gustin-fundraiser-lost-valley/
LOCATION:Lost Valley Ski Resort\, ME\, United States
ORGANIZER;CN="Androscoggin Land Trust":MAILTO:info@androscogginlandtrust.org
END:VEVENT
END:VCALENDAR