BEGIN:VCALENDAR
VERSION:2.0
PRODID:-//Androscoggin Land Trust - ECPv6.15.20//NONSGML v1.0//EN
CALSCALE:GREGORIAN
METHOD:PUBLISH
X-WR-CALNAME:Androscoggin Land Trust
X-ORIGINAL-URL:https://androscogginlandtrust.org
X-WR-CALDESC:Events for Androscoggin Land Trust
REFRESH-INTERVAL;VALUE=DURATION:PT1H
X-Robots-Tag:noindex
X-PUBLISHED-TTL:PT1H
BEGIN:VTIMEZONE
TZID:America/New_York
BEGIN:DAYLIGHT
TZOFFSETFROM:-0500
TZOFFSETTO:-0400
TZNAME:EDT
DTSTART:20220313T070000
END:DAYLIGHT
BEGIN:STANDARD
TZOFFSETFROM:-0400
TZOFFSETTO:-0500
TZNAME:EST
DTSTART:20221106T060000
END:STANDARD
BEGIN:DAYLIGHT
TZOFFSETFROM:-0500
TZOFFSETTO:-0400
TZNAME:EDT
DTSTART:20230312T070000
END:DAYLIGHT
BEGIN:STANDARD
TZOFFSETFROM:-0400
TZOFFSETTO:-0500
TZNAME:EST
DTSTART:20231105T060000
END:STANDARD
BEGIN:DAYLIGHT
TZOFFSETFROM:-0500
TZOFFSETTO:-0400
TZNAME:EDT
DTSTART:20240310T070000
END:DAYLIGHT
BEGIN:STANDARD
TZOFFSETFROM:-0400
TZOFFSETTO:-0500
TZNAME:EST
DTSTART:20241103T060000
END:STANDARD
END:VTIMEZONE
BEGIN:VEVENT
DTSTART;TZID=America/New_York:20230419T170000
DTEND;TZID=America/New_York:20230419T180000
DTSTAMP:20260419T134809
CREATED:20230405T210611Z
LAST-MODIFIED:20230405T210611Z
UID:10000128-1681923600-1681927200@androscogginlandtrust.org
SUMMARY:Tick Education: Understand Ticks & Tick-borne illnesses.
DESCRIPTION:This presentation is great. It educates people about different kinds of ticks – ones to be wary of and ones that are not so scary. Prevention of all tick diseases and education about the different tick-borne illnesses. Participants will understand the life cycle of the tick and the seasons they need to pay attention to ticks. They will leave understanding how to take care of themselves\, their lawns and their loved ones. \nALT is happy to partner with the Maine CDC to present Tick Education; Understand and Prevent Ticks and Tick-borne illnesses. \nDevin Myles\, Maine CDC Field Epidemiologist is our presenter for this online talk. Devin is from Turner and loves the Riverlands State Park. He is excited to share tick education with us.
URL:https://androscogginlandtrust.org/event/tick-education-understand-ticks-tick-borne-illnesses/
LOCATION:ME\, United States
ORGANIZER;CN="Androscoggin Land Trust":MAILTO:info@androscogginlandtrust.org
END:VEVENT
BEGIN:VEVENT
DTSTART;TZID=America/New_York:20230426T190000
DTEND;TZID=America/New_York:20230426T200000
DTSTAMP:20260419T134809
CREATED:20230322T192011Z
LAST-MODIFIED:20230420T201211Z
UID:10000124-1682535600-1682539200@androscogginlandtrust.org
SUMMARY:Woodcock Walk at Katherine Breton Memorial Preserve
DESCRIPTION:Update:  EVENT AT CAPACITY/SOLD OUT \nPlease join us at any one of our other fabulous events 🙂 \n  \nWhat:  Woodcock Walk \nWhen:  April 26th at 7pm \nWhere:  260 Ferry Road in Lisbon at the Katherine Breton Preserve \nWho:  Dana Little will lead the walk \nWhy: Springtime is calling us \nMeet at 260 Ferry Road in Lisbon. Park on the grass to the right or left of the driveway. Bring waterproof boots (there will likely be mud)\, binoculars\, flashlights and warm clothing. We will be looking and listening for Woodcock\, Owls\, frogs\, returning migrant birds and wildflowers.  We will walk about one mile on dirt roads.  Be prepared for ticks and check yourself after returning home. \nPlease have people send me an email if they wish to participate at danawl585@gmail.com.
URL:https://androscogginlandtrust.org/event/woodcock-walk-at-katherine-breton-memorial-preserve/
LOCATION:Katherine Breton\, ME\, United States
ORGANIZER;CN="Androscoggin Land Trust":MAILTO:info@androscogginlandtrust.org
END:VEVENT
BEGIN:VEVENT
DTSTART;TZID=America/New_York:20230524T050000
DTEND;TZID=America/New_York:20230524T200000
DTSTAMP:20260419T134809
CREATED:20230405T212010Z
LAST-MODIFIED:20230405T212010Z
UID:10000130-1684904400-1684958400@androscogginlandtrust.org
SUMMARY:ALT Fundraiser @ Lost Valley in Auburn
DESCRIPTION:
URL:https://androscogginlandtrust.org/event/alt-fundraiser-lost-valley-in-auburn/
LOCATION:Lost Valley Ski Resort\, ME\, United States
ORGANIZER;CN="Androscoggin Land Trust":MAILTO:info@androscogginlandtrust.org
END:VEVENT
BEGIN:VEVENT
DTSTART;TZID=America/New_York:20230624T090000
DTEND;TZID=America/New_York:20230624T150000
DTSTAMP:20260419T134809
CREATED:20230322T193959Z
LAST-MODIFIED:20230322T193959Z
UID:10000125-1687597200-1687618800@androscogginlandtrust.org
SUMMARY:Eco Festival
DESCRIPTION:Stay tuned for a local event that showcases sustainable and healthy living. Learn about implementing conservation and sustainable living ideas in demos. Browse local vendors and organizations that promote sustainable living\, conservation\, and healthy living. Learn about actions and projects in your natural world. Sign-up for trips to discover local gems. Hiking\, family paddles\, experienced paddle trips\, and more! \n 
URL:https://androscogginlandtrust.org/event/eco-festival/
LOCATION:ME\, United States
ORGANIZER;CN="Androscoggin Land Trust":MAILTO:info@androscogginlandtrust.org
END:VEVENT
BEGIN:VEVENT
DTSTART;TZID=America/New_York:20230815T170000
DTEND;TZID=America/New_York:20230815T200000
DTSTAMP:20260419T134809
CREATED:20230322T195036Z
LAST-MODIFIED:20230804T125320Z
UID:10000126-1692118800-1692129600@androscogginlandtrust.org
SUMMARY:Annual Meeting
DESCRIPTION:Annual Meeting 2023 – Youth in Conservation \nWelcome to the 2023 Annual Meeting for Androscoggin Land Trust! We are thrilled to extend a warm and enthusiastic invitation to you. \nTICKETS here: ALT Annual Meeting at Vista of Maine in Greene \nFree event\, donations appreciated \nThis event is an extraordinary opportunity to immerse yourself in the world of conservation efforts in our region while connecting with like-minded individuals who share your passion for the environment. Join us on Tuesday\, August 15th\, 2023\, starting at 5:00 pm\, at the stunning VISTA of Maine\, nestled at 158 North Hills Ridge\, Greene\, ME 04236. \nPrepare yourself for an unforgettable evening filled with exciting experiences and insightful discussions. Our in-person gathering promises to be both engaging and informative\, offering you the chance to forge new friendships and expand your professional network. \nWe are honored to present our guest speaker\, Enock Glidden\, from Go Beyond the Fence and Maine Trail Finder\, who will inspire us with valuable expertise and experiences. Enock has been a collaborator and consultant with our G2O program this summer on building accessible trails. Born with Spina Bifida\, Enock Glidden is a disabled athlete\, adventurer\, motivational speaker\, and an advocate for others with disabilities. Enock’s movie aptly named “Enock” documents his first ascent of El Capitan in the fall of 2016. The documentary highlights what can happen when a community comes together with a common goal. Despite not having the use of his legs\, Enock has lived to overcome life’s challenges\, breaking physical barriers and defying odds. Enock lives by his motto: “If you try\, things happen”.   \nAdditionally\, we celebrate the amazing achievements of the youth from our G2O program\, who have dedicated their efforts to building an accessible trail at Camp Gustin. Witness the passion and dedication of the Spruce Mountain High School Envirothon team\, the 2023 State of Maine champions. \nAt the Androscoggin Land Trust’s Annual Meeting\, you’ll have the chance to engage in meaningful conversations\, celebrate conservation victories\, and gain valuable insights into the future of environmental stewardship. \nWe sincerely hope you will honor us with your presence\, as your participation will undoubtedly add to the richness and diversity of perspectives at this event. Mark your calendars now and come be a part of this occasion. Your presence matters\, and we can’t wait to welcome you with open arms. \nSee you on August 15th\, 2023 – together\, we’ll make a positive impact on our region and beyond. Let’s forge new connections and inspire change together!
URL:https://androscogginlandtrust.org/event/annual-meeting/
LOCATION:Vista of Maine\, 146 N Hills Road\, Greene\, ME\, 04236\, United States
CATEGORIES:Annual Meeting
ATTACH;FMTTYPE=image/png:https://androscogginlandtrust.org/wp-content/uploads/2023/03/unnamed.png
ORGANIZER;CN="Androscoggin Land Trust":MAILTO:info@androscogginlandtrust.org
END:VEVENT
BEGIN:VEVENT
DTSTART;TZID=America/New_York:20231014T093000
DTEND;TZID=America/New_York:20231014T120000
DTSTAMP:20260419T134809
CREATED:20230911T194628Z
LAST-MODIFIED:20230915T114101Z
UID:10000131-1697275800-1697284800@androscogginlandtrust.org
SUMMARY:ALT 2023 River Clean-Up!
DESCRIPTION:*DUE TO THE IMPENDING IMPACT OF HURRICANE LEE\, ALT IS MOVING THE ANDROSCOGGIN RIVER CLEANUP TO THE WEEKEND OF OCTOBER 14th. OUR APOLOGIES TO ANYONE AFFECTED AND WE HOPE TO SEE YOU DURING THE RESCEDULED EVENT!*\n\nJoin us by boat or foot for the 2023 Androscoggin River Clean Up sponsored by Androscoggin Bank! The Southern Clean Up Checks in by 9:30am at the Lewiston Farmers Market parking at 2 Oxford St. to pick up gloves\, pinchers\, trash bags\, buckets\, anything you need to help us and your community keep the banks of the Androscoggin River Clean!\nThere will be six ‘zones’ this year from Great Falls to the Bernard Lown Peace Bridge with drop off locations for items collected for each zone! You will be provided with an assist point of contact in case you need help collecting refuse or if someone is injured.\n\nThere will be PUF’s made available for folks in case they choose to wear them from the shore. Power boats can be launched from the Lincoln Street Boat Launch at 509 Lincoln St\, Lewiston ME 04240. Hand Carry Boat Launching is permitted from Simard-Payne Park at 46 Beech St. in Lewiston in front on the Check in station and at Anniversary Park\, 8 2nd St\, Auburn\, ME 04210. There is free parking at all locations. The City of Auburn has partnered with RENT.FUN to offer Kayak Rentals at Anniversary Park if you choose not to bring your own\, first come\, first served. More info here: Kayaks for Rent in Auburn!\nContact us for further information via telephone at 207-782-2302\, email info@androscogginlandtrust.org\, or via the Androscoggin Land Trust profile via Facebook or Instagram Messenger!  We hope to see you this Saturday and thank our sponsors\, including Androscoggin Savings\, the lead sponsor of the 2023 ALT Androscoggin River Clean Up!\nReserve your space here: https://ALT2023RIVERCLEANUP.eventbrite.com
URL:https://androscogginlandtrust.org/event/alt-2023-river-clean-up/
LOCATION:Lewiston Farmers Market\, 2 Oxford St.\, Lewiston\, ME\, 04240\, United States
CATEGORIES:River Clean-up
ATTACH;FMTTYPE=image/png:https://androscogginlandtrust.org/wp-content/uploads/2023/09/ALT-2023-RIVER-CLEAN-UP-1.png
ORGANIZER;CN="Androscoggin Land Trust":MAILTO:info@androscogginlandtrust.org
END:VEVENT
BEGIN:VEVENT
DTSTART;TZID=America/New_York:20231015T093000
DTEND;TZID=America/New_York:20231015T120000
DTSTAMP:20260419T134809
CREATED:20231014T220035Z
LAST-MODIFIED:20231014T220035Z
UID:10000132-1697362200-1697371200@androscogginlandtrust.org
SUMMARY:River Clean-up :  Northern Region
DESCRIPTION:ALT 2023 River Clean-up in Jay/Livermore Falls region\nJoin us for a day of community service and environmental activism as we clean up the Androscoggin River in the Jay/Livermore Falls region. This in-person event will take place on Sun October 15th 2023 at French Falls Drive\, Jay\, ME 04239.\nYou’ll have the chance to work alongside other passionate individuals who care about preserving our natural resources. We’ll provide all the necessary tools and equipment\, so all you need to bring is your enthusiasm and willingness to make a difference.\nDon’t miss out on this opportunity to give back to your community and help protect our planet. Sign up now to join the ALT 2023 River Clean-up!
URL:https://androscogginlandtrust.org/event/river-clean-up-northern-region/
LOCATION:French Falls Recreation Area\, French Falls Lane\, Jay\, ME\, 04239\, United States
CATEGORIES:River Clean-up
ATTACH;FMTTYPE=image/png:https://androscogginlandtrust.org/wp-content/uploads/2023/10/White-and-Green-Modern-Gardener-Service-Facebook-Cover-1200-×-628-px-1000-×-514-px.png
ORGANIZER;CN="Androscoggin Land Trust":MAILTO:info@androscogginlandtrust.org
GEO:44.4944392;-70.2045969
X-APPLE-STRUCTURED-LOCATION;VALUE=URI;X-ADDRESS=French Falls Recreation Area French Falls Lane Jay ME 04239 United States;X-APPLE-RADIUS=500;X-TITLE=French Falls Lane:geo:-70.2045969,44.4944392
END:VEVENT
BEGIN:VEVENT
DTSTART;TZID=America/New_York:20231021T180000
DTEND;TZID=America/New_York:20231021T200000
DTSTAMP:20260419T134809
CREATED:20231014T221756Z
LAST-MODIFIED:20231021T201109Z
UID:10000133-1697911200-1697918400@androscogginlandtrust.org
SUMMARY:CANCELLED International Observe the Moon Night - Saturday October 21nd\, 6-8pm
DESCRIPTION:International Observe the Moon Night at the Marden-Chittick Refuge in Greene (a private conservation easement) Please drive to Copper Ridge Road off of N. Mountain Road in Greene. Park alongside the road near the fields \nAlan Seamans\, Maine Master Naturalist and astronomy enthusiast will celebrate IOMN with Androscoggin Land Trust. \nInternational Observe the Moon Night is a global celebration of lunar science and exploration held annually. On this special night\, people from around the world come together to observe and learn about the Moon. Through interactive activities\, talks\, and stargazing\, this event provides an opportunity for people of all ages to appreciate the beauty of the night sky and the importance of the Moon. Join us this year on International Observe the Moon Night and explore the Moon’s mysteries!
URL:https://androscogginlandtrust.org/event/international-observe-the-moon-night-saturday-october-21nd-6-8pm/
LOCATION:Marden-Chittick Refuge\, 196 North Mountain Road\, Greene\, ME\, 04236\, United States
GEO:44.2279931;-70.177565
X-APPLE-STRUCTURED-LOCATION;VALUE=URI;X-ADDRESS=Marden-Chittick Refuge 196 North Mountain Road Greene ME 04236 United States;X-APPLE-RADIUS=500;X-TITLE=196 North Mountain Road:geo:-70.177565,44.2279931
END:VEVENT
END:VCALENDAR