BEGIN:VCALENDAR
VERSION:2.0
PRODID:-//Androscoggin Land Trust - ECPv6.15.20//NONSGML v1.0//EN
CALSCALE:GREGORIAN
METHOD:PUBLISH
X-ORIGINAL-URL:https://androscogginlandtrust.org
X-WR-CALDESC:Events for Androscoggin Land Trust
REFRESH-INTERVAL;VALUE=DURATION:PT1H
X-Robots-Tag:noindex
X-PUBLISHED-TTL:PT1H
BEGIN:VTIMEZONE
TZID:America/New_York
BEGIN:DAYLIGHT
TZOFFSETFROM:-0500
TZOFFSETTO:-0400
TZNAME:EDT
DTSTART:20170312T070000
END:DAYLIGHT
BEGIN:STANDARD
TZOFFSETFROM:-0400
TZOFFSETTO:-0500
TZNAME:EST
DTSTART:20171105T060000
END:STANDARD
BEGIN:DAYLIGHT
TZOFFSETFROM:-0500
TZOFFSETTO:-0400
TZNAME:EDT
DTSTART:20180311T070000
END:DAYLIGHT
BEGIN:STANDARD
TZOFFSETFROM:-0400
TZOFFSETTO:-0500
TZNAME:EST
DTSTART:20181104T060000
END:STANDARD
BEGIN:DAYLIGHT
TZOFFSETFROM:-0500
TZOFFSETTO:-0400
TZNAME:EDT
DTSTART:20190310T070000
END:DAYLIGHT
BEGIN:STANDARD
TZOFFSETFROM:-0400
TZOFFSETTO:-0500
TZNAME:EST
DTSTART:20191103T060000
END:STANDARD
END:VTIMEZONE
BEGIN:VEVENT
DTSTART;TZID=America/New_York:20181113T170000
DTEND;TZID=America/New_York:20181113T193000
DTSTAMP:20260424T025658
CREATED:20161107T030339Z
LAST-MODIFIED:20181113T144559Z
UID:10000079-1542128400-1542137400@androscogginlandtrust.org
SUMMARY:ALT Annual Meeting
DESCRIPTION:In case anyone was wondering\, we’re pressing ahead with the meeting tonight no matter the weather! \n–RSVP appreciated but not required-\nOur Annual Meeting on November 13 will feature guest speaker\, Brian Threlkeld\, adventurer and photographer based out of Portland\, Maine.  A former public school teacher\, Brian created Threlkeld Outdoors\, a platform to create authentic\, expedition-based content to safeguard public lands\, advocate for logical environmental policies\, and build engagement in the outdoors. His clients include Maine Outdoor Brands\, Planet Dog\, and Smartwool. He was also recently hired as full-time Team Storyteller for the nonprofit Outdoor Sport Institute. On Nov. 13\, Brian will feature his outdoor adventure images and center this talk on how leading an active outdoor lifestyle has led to an understanding of the interconnectedness between land conservation\, public health\, economic health… and fun! \nALT will also share highlights from the last year\, and recognize some people who have made an outstanding impact on the Androscoggin Land Trust\, presenting the following awards: \n \n\n\nBonnie Lounsbury Environmental Award\nAndroscoggin Partner Award\nElliott Bates Stewardship Award\nCommunity Business Stewardship Award\n\n\nSchedule: \n5:00pm – 6:00pm Complimentary Appetizers and Cash Bar\n6:00pm-7:30pm Meeting and Guest Speaker\, Brian Threlkeld\, with a talk entitled\, “Through the Lens of Adventure Photography: The Interconnectedness of Maine Land Conservation\, Public and Economic Health” \nFree / Suggested $10 Donation / Open to the Public \n\n\nEmail info@androscogginlandtrust.org or call 207.782.2302 with any questions. We hope to see you on November 13!
URL:https://androscogginlandtrust.org/event/alt-annual-meeting/
LOCATION:Hilton Garden Inn\, Auburn\, 14 Great Falls Plaza\, Auburn\, ME\, 04210\, United States
ATTACH;FMTTYPE=image/png:https://androscogginlandtrust.org/wp-content/uploads/2016/11/Annual-Meeting-flyer-web.png
ORGANIZER;CN="Shelley Kruszewski":MAILTO:shelley@androscogginlandtrust.org
GEO:44.0988403;-70.2246645
X-APPLE-STRUCTURED-LOCATION;VALUE=URI;X-ADDRESS=Hilton Garden Inn Auburn 14 Great Falls Plaza Auburn ME 04210 United States;X-APPLE-RADIUS=500;X-TITLE=14 Great Falls Plaza:geo:-70.2246645,44.0988403
END:VEVENT
END:VCALENDAR