BEGIN:VCALENDAR
VERSION:2.0
PRODID:-//Androscoggin Land Trust - ECPv6.15.20//NONSGML v1.0//EN
CALSCALE:GREGORIAN
METHOD:PUBLISH
X-WR-CALNAME:Androscoggin Land Trust
X-ORIGINAL-URL:https://androscogginlandtrust.org
X-WR-CALDESC:Events for Androscoggin Land Trust
REFRESH-INTERVAL;VALUE=DURATION:PT1H
X-Robots-Tag:noindex
X-PUBLISHED-TTL:PT1H
BEGIN:VTIMEZONE
TZID:UTC
BEGIN:STANDARD
TZOFFSETFROM:+0000
TZOFFSETTO:+0000
TZNAME:UTC
DTSTART:20180101T000000
END:STANDARD
END:VTIMEZONE
BEGIN:VTIMEZONE
TZID:America/New_York
BEGIN:DAYLIGHT
TZOFFSETFROM:-0500
TZOFFSETTO:-0400
TZNAME:EDT
DTSTART:20180311T070000
END:DAYLIGHT
BEGIN:STANDARD
TZOFFSETFROM:-0400
TZOFFSETTO:-0500
TZNAME:EST
DTSTART:20181104T060000
END:STANDARD
BEGIN:DAYLIGHT
TZOFFSETFROM:-0500
TZOFFSETTO:-0400
TZNAME:EDT
DTSTART:20190310T070000
END:DAYLIGHT
BEGIN:STANDARD
TZOFFSETFROM:-0400
TZOFFSETTO:-0500
TZNAME:EST
DTSTART:20191103T060000
END:STANDARD
BEGIN:DAYLIGHT
TZOFFSETFROM:-0500
TZOFFSETTO:-0400
TZNAME:EDT
DTSTART:20200308T070000
END:DAYLIGHT
BEGIN:STANDARD
TZOFFSETFROM:-0400
TZOFFSETTO:-0500
TZNAME:EST
DTSTART:20201101T060000
END:STANDARD
END:VTIMEZONE
BEGIN:VEVENT
DTSTART;TZID=UTC:20190202T100000
DTEND;TZID=UTC:20190202T120000
DTSTAMP:20260421T055149
CREATED:20170114T040533Z
LAST-MODIFIED:20190114T195809Z
UID:10000080-1549101600-1549108800@androscogginlandtrust.org
SUMMARY:Snowshoe Hike at David Rancourt Preserve
DESCRIPTION:Come join us for a snowshoe hike at David Rancourt Preserve in Lewiston. Missy Bilodeau\, ALT board member\, co-chair of our Stewardship Committee\, and long-time volunteer\, will lead a moderate walk along the trails that provide a beautiful view of the Androscoggin River. We will depart at 10 AM from the entrance on Tall Pines Drive. There is limited parking directly next to the entrance to the preserve and more parking available in the parking lot to the housing complex across the street from the entrance (please park closer to the road in the lot) and along Tall Pines Drive. \nWhat to bring: snowshoes\, poles (optional)\, water and a snack\, dress warm and preferably in layers. \nWe will have approximately 20 snowshoes available to borrow for this event thanks to the Maine Department of Inland Fisheries & Wildlife! Please contact us in advance if you are interested in reserving a pair: 782-2302 or info@androscogginlandtrust.org \nThe David Rancourt Preserve lets you enjoy beaches along the river and the trails make you feel like you are deep in the woods\, while only minutes from Main Street. In 2007\, with help from the Land for Maine’s Future Water Access Fund\, the Androscoggin Land Trust purchased this 14.3-acre parcel of land from the City of Lewiston. The preserve was soon thereafter named in memory of Deputy Rancourt\, a man whose affinity for the river and dedication to his country and community will forever be appreciated. \nHope to see you there!
URL:https://androscogginlandtrust.org/event/snowshoe-hike-david-rancourt/
LOCATION:David Rancourt River Preserve\, Tall Pines Drive\, Lewiston \, 04240\, United States
ATTACH;FMTTYPE=image/jpeg:https://androscogginlandtrust.org/wp-content/uploads/2017/01/IMG_7590.jpg
ORGANIZER;CN="Shelley Kruszewski":MAILTO:shelley@androscogginlandtrust.org
GEO:44.1244441;-70.2066136
X-APPLE-STRUCTURED-LOCATION;VALUE=URI;X-ADDRESS=David Rancourt River Preserve Tall Pines Drive Lewiston  04240 United States;X-APPLE-RADIUS=500;X-TITLE=Tall Pines Drive:geo:-70.2066136,44.1244441
END:VEVENT
BEGIN:VEVENT
DTSTART;TZID=UTC:20190209T100000
DTEND;TZID=UTC:20190209T120000
DTSTAMP:20260421T055149
CREATED:20170120T214709Z
LAST-MODIFIED:20190208T231137Z
UID:10000082-1549706400-1549713600@androscogginlandtrust.org
SUMMARY:Cancelled-Great Maine Outdoor Weekend – Snowshoe Hike at Androscoggin Riverlands State Park
DESCRIPTION:**Based on the latest forecast of wind chill values as low as -4 and gusts as high as 45 mph\, we are cancelling the Riverlands State Park Snowshoe Hike event on 2/9/19** \nWe will miss exploring beautiful Androscoggin Riverlands State Park with all of you\, please check out our other upcoming invents including the Spruce Mountain Sled-in and Full Moon Snowshoe at French Falls. \nCANCELLED: Hikers can choose to do the 2.2 mile loop to the picnic meadow and back\, or continue on to complete a 4-mile loop trek. Come ready to explore the beautiful Androscoggin Riverlands State Park! \nWhat to bring: snowshoes\, water and a snack\, warm clothing (layers suggested). Meet us at the Riverlands State Park parking lot located off Center Bridge Road at 10am. \nWe will have approximately 20 snowshoes available to borrow thanks to Maine IF&W. Please contact ALT in advance if you are interested in borrowing a pair: 782-2302 or info@androscogginlandtrust.org \nThe State Park was once a quaint Turner village that was destroyed in 1927 by rising waters caused by the construction of the Gulf Island dam. In the mid-1980s\, the potential sale of this vast parcel of land along the Androscoggin River in Turner left a cherished local landscape vulnerable to development. Compelled toward action\, a small group of area residents began brainstorming ways to preserve the land as open space and to maintain its longstanding public access. Drawing upon the expertise of statewide conservation organizations\, they succeeded in securing funds from the fledgling Lands for Maine’s Future Program to purchase the land\, which was then transferred to the Maine Bureau of Parks and Lands for management. Today\, the Androscoggin Riverlands State Park is the fifth largest in the state park system\, a 2675-acre expanse that offers miles of public trails\, river access\, year-round recreational opportunities\, and significant natural habitat for wildlife. This successful grassroots effort at land protection was the catalyst for the creation of the Androscoggin Land Trust (ALT) in 1989 as a vehicle for continuing conservation efforts in the region. \nHope to see you there! \nYou can check out these links for more information about Androscoggin Riverlands State Park: \nWebsite\nHistoric Brochure\nAndroscoggin Riverlands State Park Guide
URL:https://androscogginlandtrust.org/event/great-maine-outdoor-weekend-snowshoe-hike-androscoggin-riverlands-state-park/
LOCATION:Androscoggin Riverlands State Park\, 1005 Center Bridge Road\, Turner\, ME\, 04282\, United States
ATTACH;FMTTYPE=image/jpeg:https://androscogginlandtrust.org/wp-content/uploads/2015/01/IMG_3456.jpg
ORGANIZER;CN="Shelley Kruszewski":MAILTO:shelley@androscogginlandtrust.org
GEO:44.2613195;-70.1873602
X-APPLE-STRUCTURED-LOCATION;VALUE=URI;X-ADDRESS=Androscoggin Riverlands State Park 1005 Center Bridge Road Turner ME 04282 United States;X-APPLE-RADIUS=500;X-TITLE=1005 Center Bridge Road:geo:-70.1873602,44.2613195
END:VEVENT
BEGIN:VEVENT
DTSTART;TZID=America/New_York:20190219T183000
DTEND;TZID=America/New_York:20190219T200000
DTSTAMP:20260421T055149
CREATED:20190128T202410Z
LAST-MODIFIED:20190128T202410Z
UID:10000097-1550601000-1550606400@androscogginlandtrust.org
SUMMARY:Full Moon Snowshoe Hike at French Falls
DESCRIPTION:Join us on the full moon for an evening snow shoe hike! This riverside trail will give a great opportunity to see the moonlight on the river and beaming through the trees. There will be a fire near the trail entrance to enjoy. There is a parking lot along the ball field at the end of French Falls Lane and we will meet there at the trail entrance. This event is hosted by ALT and the Jay Recreation Committee. \nWhat to bring: snowshoes\, headlamp/flashlight\, poles (optional)\, water and a snack\, warm clothing (layers suggested). There will be some snow shoes available for people to borrow\, if possible please contact us in advance to reserve a pair. \nHope to see you there! \nFrench Falls Recreation Area is owned and conserved by the Androscoggin Land Trust and leased to the Town of Jay. You can learn more about French Falls here: https://androscogginlandtrust.org/land-projects/french-falls-recreation-area/
URL:https://androscogginlandtrust.org/event/full-moon-snowshoe-hike-at-french-falls/
LOCATION:French Falls Recreation Area\, French Falls Lane\, Jay\, ME\, 04239\, United States
ATTACH;FMTTYPE=image/jpeg:https://androscogginlandtrust.org/wp-content/uploads/2019/01/french-falls-moon.jpg
ORGANIZER;CN="Shelley Kruszewski":MAILTO:shelley@androscogginlandtrust.org
GEO:44.4944392;-70.2045969
X-APPLE-STRUCTURED-LOCATION;VALUE=URI;X-ADDRESS=French Falls Recreation Area French Falls Lane Jay ME 04239 United States;X-APPLE-RADIUS=500;X-TITLE=French Falls Lane:geo:-70.2045969,44.4944392
END:VEVENT
END:VCALENDAR