BEGIN:VCALENDAR
VERSION:2.0
PRODID:-//Androscoggin Land Trust - ECPv6.15.20//NONSGML v1.0//EN
CALSCALE:GREGORIAN
METHOD:PUBLISH
X-ORIGINAL-URL:https://androscogginlandtrust.org
X-WR-CALDESC:Events for Androscoggin Land Trust
REFRESH-INTERVAL;VALUE=DURATION:PT1H
X-Robots-Tag:noindex
X-PUBLISHED-TTL:PT1H
BEGIN:VTIMEZONE
TZID:America/New_York
BEGIN:DAYLIGHT
TZOFFSETFROM:-0500
TZOFFSETTO:-0400
TZNAME:EDT
DTSTART:20170312T070000
END:DAYLIGHT
BEGIN:STANDARD
TZOFFSETFROM:-0400
TZOFFSETTO:-0500
TZNAME:EST
DTSTART:20171105T060000
END:STANDARD
BEGIN:DAYLIGHT
TZOFFSETFROM:-0500
TZOFFSETTO:-0400
TZNAME:EDT
DTSTART:20180311T070000
END:DAYLIGHT
BEGIN:STANDARD
TZOFFSETFROM:-0400
TZOFFSETTO:-0500
TZNAME:EST
DTSTART:20181104T060000
END:STANDARD
BEGIN:DAYLIGHT
TZOFFSETFROM:-0500
TZOFFSETTO:-0400
TZNAME:EDT
DTSTART:20190310T070000
END:DAYLIGHT
BEGIN:STANDARD
TZOFFSETFROM:-0400
TZOFFSETTO:-0500
TZNAME:EST
DTSTART:20191103T060000
END:STANDARD
END:VTIMEZONE
BEGIN:VEVENT
DTSTART;TZID=America/New_York:20180922T100000
DTEND;TZID=America/New_York:20180922T140000
DTSTAMP:20260423T060149
CREATED:20170530T234742Z
LAST-MODIFIED:20180723T172136Z
UID:10000092-1537610400-1537624800@androscogginlandtrust.org
SUMMARY:GMOW - Fall Foliage Paddle at Riverlands State Park
DESCRIPTION:Join the Androscoggin Land Trust to celebrate fall and the Great Maine Outdoor Weekend with a paddle on Gulf Island Pond\, along the shore of the Androscoggin Riverlands State Park. \nThe paddling trip will depart from the boat access on Center Bridge Road in Turner at the northern end of the park\, and include a round trip of approximately eight miles depending on the weather and water conditions. Paddlers will follow the shoreline of the state park. We’ll take a short hike on the Homestead Trail\, midway\, to see foundations of old farmsteads\, all that is left of a thriving community flooded out by the construction of Gulf Island Dam in 1927. Then we will paddle downriver to an island\, have lunch\, and turn back. The Riverlands was first conserved in the early 1990s by conservationists who played a role in creating the Androscoggin Land Trust. \nYou can arrive at 10am. Please bring your own boat and paddling gear (life vests mandatory). Bring wind/rain/sun protection gear\, binoculars\, camera\, water\, and your lunch. You do not need to register in advance. \nPaddle will be held rain or shine\, unless conditions are treacherous. For directions and more information about the park\, visit www.maine.gov/androscogginriverlands. The Center Bridge boat access is between the entrance to the park and the Greene-Turner Bridge.  Look for a small blue sign with a boat on it.
URL:https://androscogginlandtrust.org/event/gmow-fall-foliage-paddle-riverlands-state-park/
LOCATION:Androscoggin Riverlands State Park\, 1005 Center Bridge Road\, Turner\, ME\, 04282\, United States
CATEGORIES:Paddling Society
ATTACH;FMTTYPE=image/jpeg:https://androscogginlandtrust.org/wp-content/uploads/2014/09/ffl.jpg
ORGANIZER;CN="Shelley Kruszewski":MAILTO:shelley@androscogginlandtrust.org
GEO:44.2613195;-70.1873602
X-APPLE-STRUCTURED-LOCATION;VALUE=URI;X-ADDRESS=Androscoggin Riverlands State Park 1005 Center Bridge Road Turner ME 04282 United States;X-APPLE-RADIUS=500;X-TITLE=1005 Center Bridge Road:geo:-70.1873602,44.2613195
END:VEVENT
END:VCALENDAR